BEGIN:VCALENDAR
VERSION:2.0
PRODID:-//Cámara Del Libro La Paz - ECPv6.14.2//NONSGML v1.0//EN
CALSCALE:GREGORIAN
METHOD:PUBLISH
X-ORIGINAL-URL:https://www.camaralibrolapaz.org.bo
X-WR-CALDESC:Events for Cámara Del Libro La Paz
REFRESH-INTERVAL;VALUE=DURATION:PT1H
X-Robots-Tag:noindex
X-PUBLISHED-TTL:PT1H
BEGIN:VTIMEZONE
TZID:America/Halifax
BEGIN:DAYLIGHT
TZOFFSETFROM:-0400
TZOFFSETTO:-0300
TZNAME:ADT
DTSTART:20250309T060000
END:DAYLIGHT
BEGIN:STANDARD
TZOFFSETFROM:-0300
TZOFFSETTO:-0400
TZNAME:AST
DTSTART:20251102T050000
END:STANDARD
END:VTIMEZONE
BEGIN:VEVENT
DTSTART;TZID=America/Halifax:20250801T210000
DTEND;TZID=America/Halifax:20250801T220000
DTSTAMP:20260423T082750
CREATED:20250729T181338Z
LAST-MODIFIED:20250729T181640Z
UID:5571-1754082000-1754085600@www.camaralibrolapaz.org.bo
SUMMARY:SALA 2 | PRESENTACIÓN DE LIBRO: El presterio de las clandestinas\, historias de lucha y juntuchas | Por: ASCAP Asociación Con Alas Propias
DESCRIPTION:Memorias disidentes en fiestas populares bolivianas donde cuerpos diversos transforman la tradición con baile\, fe y rebeldía como formas de resistencia y celebración.
URL:https://www.camaralibrolapaz.org.bo/event/sala-2-presentacion-de-libro-el-presterio-de-las-clandestinas-historias-de-lucha-y-juntuchas-por-ascap-asociacion-con-alas-propias/
LOCATION:Sala 2
CATEGORIES:DÍA 3 | 01-08-2025,FILLP 2025,Presentación de libro
END:VEVENT
BEGIN:VEVENT
DTSTART;TZID=America/Halifax:20250801T210000
DTEND;TZID=America/Halifax:20250801T220000
DTSTAMP:20260423T082750
CREATED:20250729T181337Z
LAST-MODIFIED:20250729T181337Z
UID:5569-1754082000-1754085600@www.camaralibrolapaz.org.bo
SUMMARY:ESCENARIO PRINCIPAL | MÚSICA: Nia Cole
DESCRIPTION:Nia Cole es una cantautora boliviana que fusiona pop\, rock y ritmos acústicos. Su álbum Mil Cosas consolidó su presencia en la escena musical nacional.
URL:https://www.camaralibrolapaz.org.bo/event/escenario-principal-musica-nia-cole/
LOCATION:Escenario Principal
CATEGORIES:DÍA 7 | 05-08-2025,FILLP 2025,Presentación de libro
END:VEVENT
BEGIN:VEVENT
DTSTART;TZID=America/Halifax:20250801T210000
DTEND;TZID=America/Halifax:20250801T220000
DTSTAMP:20260423T082750
CREATED:20250729T181337Z
LAST-MODIFIED:20250729T181337Z
UID:5570-1754082000-1754085600@www.camaralibrolapaz.org.bo
SUMMARY:SALA 1 | PRESENTACIÓN DE LIBRO: Tupiza. Un viaje hacia los recuerdos
DESCRIPTION:Un viaje a los recuerdos\, en que conviven al historia\, la memoria\, la sociologia popular en al narrativa
URL:https://www.camaralibrolapaz.org.bo/event/sala-1-presentacion-de-libro-tupiza-un-viaje-hacia-los-recuerdos/
LOCATION:Sala 1
CATEGORIES:DÍA 7 | 05-08-2025,FILLP 2025,Presentación de libro
END:VEVENT
BEGIN:VEVENT
DTSTART;TZID=America/Halifax:20250801T210000
DTEND;TZID=America/Halifax:20250801T210000
DTSTAMP:20260423T082750
CREATED:20250729T181338Z
LAST-MODIFIED:20250729T181338Z
UID:5573-1754082000-1754082000@www.camaralibrolapaz.org.bo
SUMMARY:SALA 4 | PRESENTACIÓN DE LIBRO Legado Ancestral | Grupo Editorial Letras Negras S.A.S. - Ediciones Converso
DESCRIPTION:Antología de poesía boliviana publicada por Ediciones Converso (Colombia). Poemario resultado de una convocatoria en redes sociales\, reúne 28 poemas de 16 autores de Bolivia.
URL:https://www.camaralibrolapaz.org.bo/event/sala-4-presentacion-de-libro-legado-ancestral-grupo-editorial-letras-negras-s-a-s-ediciones-converso/
LOCATION:Sala 4
CATEGORIES:DÍA 7 | 05-08-2025,FILLP 2025,Presentación de libro
END:VEVENT
BEGIN:VEVENT
DTSTART;TZID=America/Halifax:20250801T210000
DTEND;TZID=America/Halifax:20250801T210000
DTSTAMP:20260423T082750
CREATED:20250729T181303Z
LAST-MODIFIED:20250729T181303Z
UID:5568-1754082000-1754082000@www.camaralibrolapaz.org.bo
SUMMARY:SALA 4 | PRESENTACION DE LIBRO: Perder el miedo
DESCRIPTION:Margarita enfrenta el miedo\, arriesga por lo que ama y saborea la vida. Sus juegos de palabras revelan sentidos profundos en momentos breves pero eternos.
URL:https://www.camaralibrolapaz.org.bo/event/sala-4-presentacion-de-libro-perder-el-miedo/
LOCATION:Sala 4
CATEGORIES:DÍA 7 | 05-08-2025,FILLP 2025,Presentación de libro
END:VEVENT
BEGIN:VEVENT
DTSTART;TZID=America/Halifax:20250801T200000
DTEND;TZID=America/Halifax:20250801T210000
DTSTAMP:20260423T082750
CREATED:20250729T181303Z
LAST-MODIFIED:20250729T181303Z
UID:5567-1754078400-1754082000@www.camaralibrolapaz.org.bo
SUMMARY:SALA 3 | PRESENTACIÓN DE LIBRO: Guía de Implementación de Políticas de Protección de Datos Personales y Uso Responsable de Inteligencia Artificial
DESCRIPTION:Propuesta clara y accesible para adoptar buenas prácticas en protección de datos e inteligencia artificial en Bolivia\, ante el vacío normativo actual
URL:https://www.camaralibrolapaz.org.bo/event/sala-3-presentacion-de-libro-guia-de-implementacion-de-politicas-de-proteccion-de-datos-personales-y-uso-responsable-de-inteligencia-artificial/
LOCATION:Sala 3
CATEGORIES:DÍA 7 | 05-08-2025,FILLP 2025,Presentación de libro
END:VEVENT
BEGIN:VEVENT
DTSTART;TZID=America/Halifax:20250801T200000
DTEND;TZID=America/Halifax:20250801T210000
DTSTAMP:20260423T082750
CREATED:20250729T181303Z
LAST-MODIFIED:20250729T181303Z
UID:5566-1754078400-1754082000@www.camaralibrolapaz.org.bo
SUMMARY:SALA 2 | CONVERSATORIO "Entre fórmulas y fugas: El arte de contar la ciencia en Paradojas cuénticas de Marco Peredo"
DESCRIPTION:Entre fórmulas y fugas: el arte de contar la ciencia desde una perspectiva literaria\, uniendo filosofía\, arte y música para divulgar ideas complejas con sensibilidad\, rigor y estilo narrativo.
URL:https://www.camaralibrolapaz.org.bo/event/sala-2-conversatorio-entre-formulas-y-fugas-el-arte-de-contar-la-ciencia-en-paradojas-cuenticas-de-marco-peredo/
LOCATION:Sala 2
CATEGORIES:DÍA 7 | 05-08-2025,FILLP 2025,Presentación de libro
END:VEVENT
BEGIN:VEVENT
DTSTART;TZID=America/Halifax:20250801T200000
DTEND;TZID=America/Halifax:20250801T200000
DTSTAMP:20260423T082750
CREATED:20250729T181302Z
LAST-MODIFIED:20250729T181302Z
UID:5564-1754078400-1754078400@www.camaralibrolapaz.org.bo
SUMMARY:SALA 4 | PRESENTACIÓN DE LIBRO: Sangre de mestizos
DESCRIPTION:Sangre de mestizos retrata con cuentos la guerra del Chaco\, mostrando el dolor\, heroísmo y el sinsentido en un contexto de injusticias sociales.
URL:https://www.camaralibrolapaz.org.bo/event/sala-4-presentacion-de-libro-sangre-de-mestizos/
LOCATION:Sala 4
CATEGORIES:DÍA 7 | 05-08-2025,FILLP 2025,Presentación de libro
END:VEVENT
BEGIN:VEVENT
DTSTART;TZID=America/Halifax:20250801T190000
DTEND;TZID=America/Halifax:20250801T203000
DTSTAMP:20260423T082750
CREATED:20250729T181126Z
LAST-MODIFIED:20250729T181126Z
UID:5561-1754074800-1754080200@www.camaralibrolapaz.org.bo
SUMMARY:ESCENARIO PRINCIPAL | PRESENTACIÓN DE LIBRO: Crepúsculo
DESCRIPTION:Philippe Claudel presenta su libro «Crepúsculo» en conferencia abierta al público\, una oportunidad única para descubrir al autor francés y su obra traducida al español.
URL:https://www.camaralibrolapaz.org.bo/event/escenario-principal-presentacion-de-libro-crepusculo/
LOCATION:Escenario Principal
CATEGORIES:DÍA 7 | 05-08-2025,FILLP 2025,Presentación de libro
END:VEVENT
BEGIN:VEVENT
DTSTART;TZID=America/Halifax:20250801T190000
DTEND;TZID=America/Halifax:20250801T200000
DTSTAMP:20260423T082750
CREATED:20250729T181127Z
LAST-MODIFIED:20250729T181127Z
UID:5562-1754074800-1754078400@www.camaralibrolapaz.org.bo
SUMMARY:SALA 2 | PRESENTACIÓN DE LIBRO: "Dos voces poéticas de Chile y Bolivia. Gabriela Mistral y Adela Zamudio"
DESCRIPTION:Presentación del libro “Dos voces poéticas de Chile y Bolivia”\, con Guillermo Soto Vergara y Pedro Pablo Zegers\, diálogo sobre Mistral\, Zamudio\, educación y derechos femeninos.
URL:https://www.camaralibrolapaz.org.bo/event/sala-2-presentacion-de-libro-dos-voces-poeticas-de-chile-y-bolivia-gabriela-mistral-y-adela-zamudio/
LOCATION:Sala 2
CATEGORIES:DÍA 7 | 05-08-2025,FILLP 2025,Presentación de libro
END:VEVENT
BEGIN:VEVENT
DTSTART;TZID=America/Halifax:20250801T190000
DTEND;TZID=America/Halifax:20250801T200000
DTSTAMP:20260423T082750
CREATED:20250729T181127Z
LAST-MODIFIED:20250729T181127Z
UID:5563-1754074800-1754078400@www.camaralibrolapaz.org.bo
SUMMARY:SALA 3 | PRESENTACIÓN DE LIBRO Futura nostalgia
DESCRIPTION:Una historia de huida\, memoria y redención. Perseguido por errores ajenos\, Will enfrenta su pasado en una carrera marcada por emociones intensas y decisiones inevitables.
URL:https://www.camaralibrolapaz.org.bo/event/sala-3-presentacion-de-libro-futura-nostalgia/
LOCATION:Sala 3
CATEGORIES:DÍA 7 | 05-08-2025,FILLP 2025,Presentación de libro
END:VEVENT
BEGIN:VEVENT
DTSTART;TZID=America/Halifax:20250801T180000
DTEND;TZID=America/Halifax:20250801T190000
DTSTAMP:20260423T082750
CREATED:20250729T181126Z
LAST-MODIFIED:20250729T181126Z
UID:5560-1754071200-1754074800@www.camaralibrolapaz.org.bo
SUMMARY:SALA 4 | PRESENTACIÓN DE LIBRO: Páginas escogidas
DESCRIPTION:Páginas escogidas reúne ensayos de Mariano Baptista Caserta sobre historia\, arte y cultura boliviana\, destacando identidad\, patrimonio y reflexiones críticas sobre nuestra memoria nacional.
URL:https://www.camaralibrolapaz.org.bo/event/sala-4-presentacion-de-libro-paginas-escogidas/
LOCATION:Sala 4
CATEGORIES:DÍA 7 | 05-08-2025,FILLP 2025,Presentación de libro
END:VEVENT
BEGIN:VEVENT
DTSTART;TZID=America/Halifax:20250801T170000
DTEND;TZID=America/Halifax:20250801T180000
DTSTAMP:20260423T082751
CREATED:20250729T181054Z
LAST-MODIFIED:20250729T181054Z
UID:5554-1754067600-1754071200@www.camaralibrolapaz.org.bo
SUMMARY:SALA 3 | PRESENTACIÓN DE LIBRO: Hijos del salitre
DESCRIPTION:Una saga familiar entre Perú\, Bolivia y Chile que une generaciones\, viajes y guerras\, en la búsqueda de identidad y memoria desde el salitre hasta Europa.
URL:https://www.camaralibrolapaz.org.bo/event/sala-3-presentacion-de-libro-hijos-del-salitre/
LOCATION:Sala 3
CATEGORIES:DÍA 7 | 05-08-2025,FILLP 2025,Presentación de libro
END:VEVENT
BEGIN:VEVENT
DTSTART;TZID=America/Halifax:20250801T170000
DTEND;TZID=America/Halifax:20250801T180000
DTSTAMP:20260423T082751
CREATED:20250729T181054Z
LAST-MODIFIED:20250729T181054Z
UID:5555-1754067600-1754071200@www.camaralibrolapaz.org.bo
SUMMARY:SALA 4 | PRESENTACIÓN DE LIBRO: "Resistir\, caminar y reír: tragedia y heroísmo en Víctor Hugo Viscarra"
DESCRIPTION:Análisis académico que examina el sufrimiento a través de la obra de Víctor Hugo Viscarra\, comparando el héroe clásico épico y trágico con las particularidades del héroe en su narrativa.
URL:https://www.camaralibrolapaz.org.bo/event/sala-4-presentacion-de-libro-resistir-caminar-y-reir-tragedia-y-heroismo-en-victor-hugo-viscarra/
LOCATION:Sala 4
CATEGORIES:DÍA 7 | 05-08-2025,FILLP 2025,Presentación de libro
END:VEVENT
BEGIN:VEVENT
DTSTART;TZID=America/Halifax:20250801T170000
DTEND;TZID=America/Halifax:20250801T180000
DTSTAMP:20260423T082751
CREATED:20250729T181040Z
LAST-MODIFIED:20250729T181040Z
UID:5553-1754067600-1754071200@www.camaralibrolapaz.org.bo
SUMMARY:SALA 2 | PRESENTACIÓN DE LIBRO "Kipu Cuarderno N° 4 y N° 5 Hacia una ética económica el ayllu / Pedagogía Nosótrica y Pedagogía de Potenciación: Educación y fundamentos pedagógicos indígenas frente a pedagogías opresoras
DESCRIPTION:Reflexión colectiva sobre principios económicos y pedagígica del ayllu que cuestionan modelos dominantes y proponen alternativas desde la cosmovisión andina y las prácticas comunitarias.
URL:https://www.camaralibrolapaz.org.bo/event/sala-2-presentacion-de-libro-kipu-cuarderno-n-4-y-n-5-hacia-una-etica-economica-el-ayllu-pedagogia-nosotrica-y-pedagogia-de-potenciacion-educacion-y-fundamentos-pedagogicos-indigenas/
LOCATION:Sala 2
CATEGORIES:DÍA 7 | 05-08-2025,FILLP 2025,Presentación de libro
END:VEVENT
BEGIN:VEVENT
DTSTART;TZID=America/Halifax:20250801T170000
DTEND;TZID=America/Halifax:20250801T180000
DTSTAMP:20260423T082751
CREATED:20250729T181039Z
LAST-MODIFIED:20250729T181039Z
UID:5552-1754067600-1754071200@www.camaralibrolapaz.org.bo
SUMMARY:SALA 1 | CONVERSATORIO: Historia oficial y contramemoria popular. “Conmemoraciones\, pasados dominantes y pasados vencidos”
DESCRIPTION:Diálogo crítico sobre historia oficial vs. memorias populares\, basado en Antimanual del mal historiador y Lógicas de la identidad y la historia. Debate sobre poder\, narrativas y resistencias.
URL:https://www.camaralibrolapaz.org.bo/event/sala-1-conversatorio-historia-oficial-y-contramemoria-popular-conmemoraciones-pasados-dominantes-y-pasados-vencidos/
LOCATION:Sala 1
CATEGORIES:DÍA 7 | 05-08-2025,FILLP 2025,Presentación de libro
END:VEVENT
BEGIN:VEVENT
DTSTART;TZID=America/Halifax:20250801T160000
DTEND;TZID=America/Halifax:20250801T170000
DTSTAMP:20260423T082751
CREATED:20250729T181039Z
LAST-MODIFIED:20250729T181039Z
UID:5549-1754064000-1754067600@www.camaralibrolapaz.org.bo
SUMMARY:SALA 3 | PRESENTACIÓN DE LIBRO: Jose Mariano Serrano (1788 - 1851) y la génesis republicana de Bolivia
DESCRIPTION:Presenta la vida del doctor José Mariano Serrano\, quien tuvo una intervención notable en la independencia de Bolivia al presidir la Asamblea Deliberante de 1825.
URL:https://www.camaralibrolapaz.org.bo/event/sala-3-presentacion-de-libro-jose-mariano-serrano-1788-1851-y-la-genesis-republicana-de-bolivia/
LOCATION:Sala 3
CATEGORIES:DÍA 7 | 05-08-2025,FILLP 2025,Presentación de libro
END:VEVENT
BEGIN:VEVENT
DTSTART;TZID=America/Halifax:20250801T160000
DTEND;TZID=America/Halifax:20250801T170000
DTSTAMP:20260423T082751
CREATED:20250729T181039Z
LAST-MODIFIED:20250729T181039Z
UID:5550-1754064000-1754067600@www.camaralibrolapaz.org.bo
SUMMARY:SALA 4 | PRESENTACIÓN DE LIBRO Familia peruana | Autor: Pavel Ugarte Céspedes (Perú)
DESCRIPTION:La poesía peruana ha convertido a la familia en un símbolo vivo de identidad. Como señala Jorge Contreras\, sus versos son un árbol que encarna el universo peruano: raíces\, troncos y memoria.
URL:https://www.camaralibrolapaz.org.bo/event/sala-4-presentacion-de-libro-familia-peruana-autor-pavel-ugarte-cespedes-peru/
LOCATION:Sala 4
CATEGORIES:DÍA 7 | 05-08-2025,FILLP 2025,Presentación de libro
END:VEVENT
BEGIN:VEVENT
DTSTART;TZID=America/Halifax:20250801T160000
DTEND;TZID=America/Halifax:20250801T170000
DTSTAMP:20260423T082751
CREATED:20250729T180916Z
LAST-MODIFIED:20250729T180916Z
UID:5548-1754064000-1754067600@www.camaralibrolapaz.org.bo
SUMMARY:SALA 2 | PRESENTACIÓN DE LIBRO Biografía Colectiva Potosí
DESCRIPTION:Treinta biografías narradas como entrevistas imaginarias que dan voz y humanidad a figuras históricas clave en la memoria de Potosí.
URL:https://www.camaralibrolapaz.org.bo/event/sala-2-presentacion-de-libro-biografia-colectiva-potosi/
LOCATION:Sala 2
CATEGORIES:DÍA 7 | 05-08-2025,FILLP 2025,Presentación de libro
END:VEVENT
BEGIN:VEVENT
DTSTART;TZID=America/Halifax:20250801T150000
DTEND;TZID=America/Halifax:20250801T160000
DTSTAMP:20260423T082751
CREATED:20250729T180915Z
LAST-MODIFIED:20250729T180915Z
UID:5545-1754060400-1754064000@www.camaralibrolapaz.org.bo
SUMMARY:SALA 4 | PRESENTACIÓN DE LIBRO: Arquitectura Verde\, Placas de hormigón con musgo para reducir el CO2
DESCRIPTION:Propuesta tecnológica que integra musgo en placas de hormigón para fachadas urbanas\, reduciendo CO₂ y regenerando ecosistemas en ciudades\, combinando arquitectura\, ecología y sostenibilidad.
URL:https://www.camaralibrolapaz.org.bo/event/sala-4-presentacion-de-libro-arquitectura-verde-placas-de-hormigon-con-musgo-para-reducir-el-co2/
LOCATION:Sala 4
CATEGORIES:DÍA 7 | 05-08-2025,FILLP 2025,Presentación de libro
END:VEVENT
BEGIN:VEVENT
DTSTART;TZID=America/Halifax:20250731T200000
DTEND;TZID=America/Halifax:20250731T210000
DTSTAMP:20260423T082751
CREATED:20250729T165032Z
LAST-MODIFIED:20250729T165032Z
UID:5438-1753992000-1753995600@www.camaralibrolapaz.org.bo
SUMMARY:SALA 1 | PRESENTACIÓN DE LIBRO: Democracia secuestrada. Reflexiones sobre libertad\, apertura económica y acceso político para la gente
DESCRIPTION:Compendio de columnas escritas desde 2018 por Ronald MacLean Abaroa\, que abordan con rigor\, estilo y audacia temas clave de la política y coyuntura nacional.
URL:https://www.camaralibrolapaz.org.bo/event/sala-1-presentacion-de-libro-democracia-secuestrada-reflexiones-sobre-libertad-apertura-economica-y-acceso-politico-para-la-gente/
LOCATION:Sala 1
CATEGORIES:DÍA 2 | 31-07-2025,Presentación de libro
END:VEVENT
BEGIN:VEVENT
DTSTART;TZID=America/Halifax:20250731T200000
DTEND;TZID=America/Halifax:20250731T210000
DTSTAMP:20260423T082751
CREATED:20250729T165032Z
LAST-MODIFIED:20250729T165032Z
UID:5440-1753992000-1753995600@www.camaralibrolapaz.org.bo
SUMMARY:SALA 3 | PRESENTACIÓN DE LIBRO: Escritura\, tejido y arquitectura en Cusco
DESCRIPTION:Esta obra explora la profunda interrelación entre escritura\, tejido y arquitectura en Cusco\, revelando sus dimensiones simbólicas\, estéticas y políticas dentro de la cosmovisión andina.
URL:https://www.camaralibrolapaz.org.bo/event/sala-3-presentacion-de-libro-escritura-tejido-y-arquitectura-en-cusco/
LOCATION:Sala 3
CATEGORIES:DÍA 2 | 31-07-2025,Presentación de libro
END:VEVENT
BEGIN:VEVENT
DTSTART;TZID=America/Halifax:20250731T190000
DTEND;TZID=America/Halifax:20250731T200000
DTSTAMP:20260423T082751
CREATED:20250729T165018Z
LAST-MODIFIED:20250729T165018Z
UID:5437-1753988400-1753992000@www.camaralibrolapaz.org.bo
SUMMARY:SALA 4 | PRESENTACIÓN DE LIBRO: Química analítica y el equilibrio químico
DESCRIPTION:Manual práctico para entender y aplicar los principios del equilibrio químico mediante métodos intuitivos\, ejercicios resueltos y herramientas útiles para estudio o consulta profesional.
URL:https://www.camaralibrolapaz.org.bo/event/sala-4-presentacion-de-libro-quimica-analitica-y-el-equilibrio-quimico/
LOCATION:Sala 4
CATEGORIES:DÍA 2 | 31-07-2025,Presentación de libro
END:VEVENT
BEGIN:VEVENT
DTSTART;TZID=America/Halifax:20250731T190000
DTEND;TZID=America/Halifax:20250731T200000
DTSTAMP:20260423T082751
CREATED:20250729T165017Z
LAST-MODIFIED:20250729T165017Z
UID:5434-1753988400-1753992000@www.camaralibrolapaz.org.bo
SUMMARY:SALA 1 | PRESENTACIÓN DE LIBRO "El tratado de 1904" e "Iniciativas chilenas para una alianza estratégica con Bolivia"
DESCRIPTION:Una mirada reflexiva sobre la historia compartida entre Chile y Bolivia\, con énfasis en la Guerra del Pacífico y sus repercusiones políticas y diplomáticas
URL:https://www.camaralibrolapaz.org.bo/event/sala-1-presentacion-de-libro-el-tratado-de-1904-e-iniciativas-chilenas-para-una-alianza-estrategica-con-bolivia/
LOCATION:Sala 1
CATEGORIES:DÍA 2 | 31-07-2025,Presentación de libro
END:VEVENT
BEGIN:VEVENT
DTSTART;TZID=America/Halifax:20250731T190000
DTEND;TZID=America/Halifax:20250731T200000
DTSTAMP:20260423T082751
CREATED:20250729T165017Z
LAST-MODIFIED:20250729T165017Z
UID:5435-1753988400-1753992000@www.camaralibrolapaz.org.bo
SUMMARY:SALA 2 | PRESENTACIÓN DE LIBRO Aquella noche en París
DESCRIPTION:Aquella noche en París reconstruye la historia de Monika Erlt\, entre Alemania y Bolivia\, cruzando memoria\, violencia política y figuras clave del siglo XX.
URL:https://www.camaralibrolapaz.org.bo/event/sala-2-presentacion-de-libro-aquella-noche-en-paris/
LOCATION:Sala 2
CATEGORIES:DÍA 2 | 31-07-2025,Presentación de libro
END:VEVENT
BEGIN:VEVENT
DTSTART;TZID=America/Halifax:20250731T190000
DTEND;TZID=America/Halifax:20250731T200000
DTSTAMP:20260423T082751
CREATED:20250729T165017Z
LAST-MODIFIED:20250729T165017Z
UID:5436-1753988400-1753992000@www.camaralibrolapaz.org.bo
SUMMARY:SALA 3 | PRESENTACIÓN DE LIBRO: Silencio en Rebeldía
DESCRIPTION:Exploración multifacética de la condición humana\, entrelazando temas de dolor\, memoria\, injusticia y la búsqueda de significado.
URL:https://www.camaralibrolapaz.org.bo/event/sala-3-presentacion-de-libro-silencio-en-rebeldia/
LOCATION:Sala 3
CATEGORIES:DÍA 2 | 31-07-2025,Presentación de libro
END:VEVENT
BEGIN:VEVENT
DTSTART;TZID=America/Halifax:20250731T180000
DTEND;TZID=America/Halifax:20250731T190000
DTSTAMP:20260423T082751
CREATED:20250729T165003Z
LAST-MODIFIED:20250729T165003Z
UID:5432-1753984800-1753988400@www.camaralibrolapaz.org.bo
SUMMARY:SALA 4 | PRESENTACIÓN DE LIBRO: El muqui y otros seres mágicos del Perú
DESCRIPTION:Un recorrido narrativo por seres míticos del imaginario andino-peruano\, que reinterpreta figuras como el muqui\, el pishtaco o las jarjachas desde una mirada contemporánea.
URL:https://www.camaralibrolapaz.org.bo/event/sala-4-presentacion-de-libro-el-muqui-y-otros-seres-magicos-del-peru/
LOCATION:Sala 4
CATEGORIES:DÍA 2 | 31-07-2025,Presentación de libro
END:VEVENT
BEGIN:VEVENT
DTSTART;TZID=America/Halifax:20250731T180000
DTEND;TZID=America/Halifax:20250731T190000
DTSTAMP:20260423T082751
CREATED:20250729T165002Z
LAST-MODIFIED:20250729T165002Z
UID:5430-1753984800-1753988400@www.camaralibrolapaz.org.bo
SUMMARY:SALA 2 | PRESENTACIÓN DE LIBRO "Wara Wara Jawira: Transmutación del cosmos"
DESCRIPTION:Memoria sobre la participación de Bolivia en la 59ª Bienal de Venecia\, uno de los eventos más esperados y reconocidos en el mundo del arte contemporáneo.
URL:https://www.camaralibrolapaz.org.bo/event/sala-2-presentacion-de-libro-wara-wara-jawira-transmutacion-del-cosmos/
LOCATION:Sala 2
CATEGORIES:DÍA 2 | 31-07-2025,Presentación de libro
END:VEVENT
BEGIN:VEVENT
DTSTART;TZID=America/Halifax:20250731T180000
DTEND;TZID=America/Halifax:20250731T190000
DTSTAMP:20260423T082751
CREATED:20250729T153844Z
LAST-MODIFIED:20250729T165002Z
UID:5409-1753984800-1753988400@www.camaralibrolapaz.org.bo
SUMMARY:SALA 1| PRESENTACIÓN DE LIBRO "Celebrando la nación: México y Bolivia en su primer siglo de vida independiente (1810-1925)"
DESCRIPTION:Presentación del libro «Celebrando la nación: México y Bolivia durante su primer siglo de vida independiente (1810-1925)»\, seguida de un diálogo con el público.
URL:https://www.camaralibrolapaz.org.bo/event/sala-1-presentacion-de-libro-celebrando-la-nacion-mexico-y-bolivia-en-su-primer-siglo-de-vida-independiente-1810-1925/
LOCATION:Sala 1
CATEGORIES:DÍA 2 | 31-07-2025,Presentación de libro
END:VEVENT
BEGIN:VEVENT
DTSTART;TZID=America/Halifax:20250731T170000
DTEND;TZID=America/Halifax:20250731T180000
DTSTAMP:20260423T082751
CREATED:20250729T153844Z
LAST-MODIFIED:20250729T165002Z
UID:5408-1753981200-1753984800@www.camaralibrolapaz.org.bo
SUMMARY:SALA 4 | PRESENTACIÓN DE LIBRO: Boca Mina
DESCRIPTION:Bocamina es una galería de espejos rotos que reflejan la experiencia humana. Las vida de los personajes de los relatos son fragmentos cortantes y reveladores de un todo complejo y sobrecogedor.
URL:https://www.camaralibrolapaz.org.bo/event/sala-4-presentacion-de-libro-boca-mina/
LOCATION:Sala 4
CATEGORIES:DÍA 2 | 31-07-2025,Presentación de libro
END:VEVENT
END:VCALENDAR