BEGIN:VCALENDAR
VERSION:2.0
PRODID:-//Cámara Del Libro La Paz - ECPv6.14.2//NONSGML v1.0//EN
CALSCALE:GREGORIAN
METHOD:PUBLISH
X-ORIGINAL-URL:https://www.camaralibrolapaz.org.bo
X-WR-CALDESC:Events for Cámara Del Libro La Paz
REFRESH-INTERVAL;VALUE=DURATION:PT1H
X-Robots-Tag:noindex
X-PUBLISHED-TTL:PT1H
BEGIN:VTIMEZONE
TZID:America/Halifax
BEGIN:DAYLIGHT
TZOFFSETFROM:-0400
TZOFFSETTO:-0300
TZNAME:ADT
DTSTART:20250309T060000
END:DAYLIGHT
BEGIN:STANDARD
TZOFFSETFROM:-0300
TZOFFSETTO:-0400
TZNAME:AST
DTSTART:20251102T050000
END:STANDARD
END:VTIMEZONE
BEGIN:VTIMEZONE
TZID:UTC
BEGIN:STANDARD
TZOFFSETFROM:+0000
TZOFFSETTO:+0000
TZNAME:UTC
DTSTART:20250101T000000
END:STANDARD
END:VTIMEZONE
BEGIN:VEVENT
DTSTART;TZID=America/Halifax:20250731T160000
DTEND;TZID=America/Halifax:20250731T170000
DTSTAMP:20260422T020436
CREATED:20250729T153443Z
LAST-MODIFIED:20250729T164946Z
UID:5401-1753977600-1753981200@www.camaralibrolapaz.org.bo
SUMMARY:SALA 3 | CONVERSATORIO con autores nacionales de LIJ
DESCRIPTION:
URL:https://www.camaralibrolapaz.org.bo/event/sala-3-conversatorio-con-autores-nacionales-de-lij/
LOCATION:Sala 3
CATEGORIES:Conversatorio,DÍA 2 | 31-07-2025
END:VEVENT
BEGIN:VEVENT
DTSTART;TZID=America/Halifax:20250731T160000
DTEND;TZID=America/Halifax:20250731T170000
DTSTAMP:20260422T020436
CREATED:20250729T153443Z
LAST-MODIFIED:20250729T164946Z
UID:5402-1753977600-1753981200@www.camaralibrolapaz.org.bo
SUMMARY:SALA 4 | TALLER de redacción académica
DESCRIPTION:La escritura plantea retos\, no solo a nivel lingüístico\, sino también estructural. El taller busca brindar los elementos esenciales para mejorar la redacción académica.
URL:https://www.camaralibrolapaz.org.bo/event/sala-4-taller-de-redaccion-academica/
LOCATION:Sala 4
CATEGORIES:DÍA 2 | 31-07-2025,Taller
END:VEVENT
BEGIN:VEVENT
DTSTART;TZID=America/Halifax:20250731T160000
DTEND;TZID=America/Halifax:20250731T170000
DTSTAMP:20260422T020436
CREATED:20250729T153442Z
LAST-MODIFIED:20250729T164946Z
UID:5399-1753977600-1753981200@www.camaralibrolapaz.org.bo
SUMMARY:SALA 1 | PROYECCIÓN: Voces que caminan
DESCRIPTION:20 cortos inspirados en la oraliteratura\, una colección del MUSEF que muestra cómo las historias mantienen viva la cultura y la identidad de nuestro país
URL:https://www.camaralibrolapaz.org.bo/event/sala-1-proyeccion-voces-que-caminan/
LOCATION:Sala 1
CATEGORIES:DÍA 2 | 31-07-2025,Proyección
END:VEVENT
BEGIN:VEVENT
DTSTART;TZID=America/Halifax:20250731T160000
DTEND;TZID=America/Halifax:20250731T170000
DTSTAMP:20260422T020436
CREATED:20250729T153442Z
LAST-MODIFIED:20250729T164946Z
UID:5400-1753977600-1753981200@www.camaralibrolapaz.org.bo
SUMMARY:SALA 2 | PRESENTACIÓN DE LIBRO "Cuento ilustrado Mystic Cats: Crónicas felinas reino de Karu-land"
DESCRIPTION:Cinco gatos hechiceros intentan escapar de una torre mágica recorriendo Karu-land. Historia fantástica con videojuego boliviano que une aventura\, amistad y mundos sorprendentes.
URL:https://www.camaralibrolapaz.org.bo/event/sala-2-presentacion-de-libro-cuento-ilustrado-mystic-cats-cronicas-felinas-reino-de-karu-land/
LOCATION:Sala 2
CATEGORIES:DÍA 2 | 31-07-2025,Presentación de libro
END:VEVENT
BEGIN:VEVENT
DTSTART;TZID=America/Halifax:20250731T150000
DTEND;TZID=America/Halifax:20250731T160000
DTSTAMP:20260422T020436
CREATED:20250729T153442Z
LAST-MODIFIED:20250729T164946Z
UID:5398-1753974000-1753977600@www.camaralibrolapaz.org.bo
SUMMARY:SALA 4 | PRESENTACIÓN DE LIBRO: Cuentos en pandemia y otras andanzas
DESCRIPTION:Cada uno de los cuentos aporta tres narrativas que se entrelazan para crear una historia. Cada cuento captura diferentes facetas de la vida: lo curioso\, lo absurdo\, lo fantástico\, lo sórdido y lo esperanzador.
URL:https://www.camaralibrolapaz.org.bo/event/sala-4-presentacion-de-libro-cuentos-en-pandemia-y-otras-andanzas/
LOCATION:Sala 4
CATEGORIES:DÍA 2 | 31-07-2025,Presentación de libro
END:VEVENT
BEGIN:VEVENT
DTSTART;TZID=America/Halifax:20250731T150000
DTEND;TZID=America/Halifax:20250731T160000
DTSTAMP:20260422T020436
CREATED:20250729T153441Z
LAST-MODIFIED:20250729T164945Z
UID:5396-1753974000-1753977600@www.camaralibrolapaz.org.bo
SUMMARY:SALA 2 | PRESENTACIÓN DE LIBRO: Lo indio como Otredad
DESCRIPTION:Estudio filosófico sobre los pueblos originarios como Otredad latinoamericana\, desde el enfoque de la filosofía de la liberación y el pensamiento de Enrique Dussel.
URL:https://www.camaralibrolapaz.org.bo/event/sala-2-presentacion-de-libro-lo-indio-como-otredad/
LOCATION:Sala 2
CATEGORIES:DÍA 2 | 31-07-2025,Presentación de libro
END:VEVENT
BEGIN:VEVENT
DTSTART;TZID=America/Halifax:20250731T150000
DTEND;TZID=America/Halifax:20250731T160000
DTSTAMP:20260422T020436
CREATED:20250729T153441Z
LAST-MODIFIED:20250729T164945Z
UID:5397-1753974000-1753977600@www.camaralibrolapaz.org.bo
SUMMARY:SALA 3 | TALLER: IA para la mejora de procesos y proyectos culturales
DESCRIPTION:Taller práctico para agentes culturales que explora el uso de la inteligencia artificial en la planificación\, gestión y evaluación de proyectos creativos y comunitarios.
URL:https://www.camaralibrolapaz.org.bo/event/sala-3-taller-ia-para-la-mejora-de-procesos-y-proyectos-culturales/
LOCATION:Sala 3
CATEGORIES:DÍA 2 | 31-07-2025,Taller
END:VEVENT
BEGIN:VEVENT
DTSTART;TZID=America/Halifax:20250731T150000
DTEND;TZID=America/Halifax:20250731T160000
DTSTAMP:20260422T020436
CREATED:20250729T153441Z
LAST-MODIFIED:20250729T164945Z
UID:5395-1753974000-1753977600@www.camaralibrolapaz.org.bo
SUMMARY:SALA 1| PRESENTACIÓN "Las bibliotecas son de todos: la función social de las bibliotecas"
DESCRIPTION:Presentación del proyecto “La Biblioteca es de todos” y explicación del sistema de préstamo de libros a domicilio por un mes.
URL:https://www.camaralibrolapaz.org.bo/event/sala-1-presentacion-las-bibliotecas-son-de-todos-la-funcion-social-de-las-bibliotecas/
LOCATION:Sala 1
CATEGORIES:Conversatorio,DÍA 2 | 31-07-2025
END:VEVENT
BEGIN:VEVENT
DTSTART;TZID=America/Halifax:20250731T143000
DTEND;TZID=America/Halifax:20250731T170000
DTSTAMP:20260422T020436
CREATED:20250727T201350Z
LAST-MODIFIED:20250729T164945Z
UID:4525-1753972200-1753981200@www.camaralibrolapaz.org.bo
SUMMARY:ESCENARIO PRINCIPAL | CINÉFORO ¿Cómo se construye una cultura de paz? Proyección de la película "Hammarskjöld: Una lucha por la paz"
DESCRIPTION:Foro debate a partir de la historia del exsecretario general de la ONU Dag Hammarskjöld\, quien destacó por su compromiso con la paz durante la Guerra Fría.
URL:https://www.camaralibrolapaz.org.bo/event/escenario-principal-cineforo-como-se-construye-una-cultura-de-paz-proyeccion-de-la-pelicula-hammarskjold-una-lucha-por-la-paz/
LOCATION:Escenario Principal
CATEGORIES:DÍA 2 | 31-07-2025,Proyección
END:VEVENT
BEGIN:VEVENT
DTSTART;TZID=America/Halifax:20250731T140000
DTEND;TZID=America/Halifax:20250731T160000
DTSTAMP:20260422T020436
CREATED:20250727T200921Z
LAST-MODIFIED:20250729T164945Z
UID:4511-1753970400-1753977600@www.camaralibrolapaz.org.bo
SUMMARY:STAND DE FRANCIA| Presentación de las ofertas de clases de francés y de estudios en Francia por la Alianza francesa y Campus France
DESCRIPTION:Presentación sobre clases de francés y programas de estudio en Francia\, seguida de una sesión interactiva de preguntas y respuestas con el público.
URL:https://www.camaralibrolapaz.org.bo/event/stand-de-francia-presentacion-de-las-ofertas-de-clases-de-frances-y-de-estudios-en-francia-por-la-alianza-francesa-y-campus-france-organiza-francia-pais-invitado-de-honor/
LOCATION:Otros espacios
CATEGORIES:DÍA 2 | 31-07-2025,Presentación
END:VEVENT
BEGIN:VEVENT
DTSTART;TZID=UTC:20250730T190000
DTEND;TZID=UTC:20250730T210000
DTSTAMP:20260422T020436
CREATED:20250703T073805Z
LAST-MODIFIED:20250729T150851Z
UID:3544-1753902000-1753909200@www.camaralibrolapaz.org.bo
SUMMARY:AUDITORIO ILLIMANI | Inauguración oficial
DESCRIPTION:La 29ª Feria Internacional del Libro de La Paz abre sus puertas al público. En el Bicentenario de Bolivia\, el evento cultural más importante del país convoca durante doce días a quienes hacen\, leen y comparten libro. ¡Acompañanos!. \n\n                Organiza: Cámara Departamental del Libro de La Paz
URL:https://www.camaralibrolapaz.org.bo/event/inauguracion/
LOCATION:AUDITORIO ILLIMANI
CATEGORIES:DÍA 1 | 30-07-2025,FILLP 2025
END:VEVENT
END:VCALENDAR