BEGIN:VCALENDAR
VERSION:2.0
PRODID:-//Cámara Del Libro La Paz - ECPv6.14.2//NONSGML v1.0//EN
CALSCALE:GREGORIAN
METHOD:PUBLISH
X-WR-CALNAME:Cámara Del Libro La Paz
X-ORIGINAL-URL:https://www.camaralibrolapaz.org.bo
X-WR-CALDESC:Events for Cámara Del Libro La Paz
REFRESH-INTERVAL;VALUE=DURATION:PT1H
X-Robots-Tag:noindex
X-PUBLISHED-TTL:PT1H
BEGIN:VTIMEZONE
TZID:America/Halifax
BEGIN:DAYLIGHT
TZOFFSETFROM:-0400
TZOFFSETTO:-0300
TZNAME:ADT
DTSTART:20250309T060000
END:DAYLIGHT
BEGIN:STANDARD
TZOFFSETFROM:-0300
TZOFFSETTO:-0400
TZNAME:AST
DTSTART:20251102T050000
END:STANDARD
END:VTIMEZONE
BEGIN:VEVENT
DTSTART;TZID=America/Halifax:20250801T100000
DTEND;TZID=America/Halifax:20250801T123000
DTSTAMP:20260423T130148
CREATED:20250729T180858Z
LAST-MODIFIED:20250729T180858Z
UID:5536-1754042400-1754051400@www.camaralibrolapaz.org.bo
SUMMARY:STAND DE FRANCIA | Presentación de los programas de estudios en Francia
DESCRIPTION:Presentación de oportunidades de becas y programas de estudio en Francia por Campus France Bolivia\, seguida de una sesión de preguntas y respuestas con el público.
URL:https://www.camaralibrolapaz.org.bo/event/stand-de-francia-presentacion-de-los-programas-de-estudios-en-francia/
LOCATION:Otros espacios
CATEGORIES:DÍA 7 | 05-08-2025,FILLP 2025,Presentación
END:VEVENT
BEGIN:VEVENT
DTSTART;TZID=America/Halifax:20250801T100000
DTEND;TZID=America/Halifax:20250801T110000
DTSTAMP:20260423T130148
CREATED:20250729T180857Z
LAST-MODIFIED:20250729T180857Z
UID:5534-1754042400-1754046000@www.camaralibrolapaz.org.bo
SUMMARY:SALA 3 | Biblioteca Móvil
DESCRIPTION:Talleres educativos con estudiantes\, enfocados en fortalecer el sentido de identidad\, la reflexión sobre la memoria histórica y la conservación del patrimonio documental.
URL:https://www.camaralibrolapaz.org.bo/event/sala-3-biblioteca-movil/
LOCATION:Sala 3
CATEGORIES:DÍA 7 | 05-08-2025,FILLP 2025,Taller
END:VEVENT
BEGIN:VEVENT
DTSTART;TZID=America/Halifax:20250801T100000
DTEND;TZID=America/Halifax:20250801T110000
DTSTAMP:20260423T130148
CREATED:20250729T180857Z
LAST-MODIFIED:20250729T180857Z
UID:5535-1754042400-1754046000@www.camaralibrolapaz.org.bo
SUMMARY:SALA 4 | TALLER: Tu primer libro digital
DESCRIPTION:Taller práctico donde niñas y niños aprenden a diseñar y compartir libros digitales usando herramientas gratuitas y fáciles. Fomenta creatividad e imaginación\, con un kit digital de regalo.
URL:https://www.camaralibrolapaz.org.bo/event/sala-4-taller-tu-primer-libro-digital/
LOCATION:Sala 4
CATEGORIES:DÍA 7 | 05-08-2025,FILLP 2025,Taller
END:VEVENT
END:VCALENDAR