BEGIN:VCALENDAR
VERSION:2.0
PRODID:-//Cámara Del Libro La Paz - ECPv6.14.2//NONSGML v1.0//EN
CALSCALE:GREGORIAN
METHOD:PUBLISH
X-ORIGINAL-URL:https://www.camaralibrolapaz.org.bo
X-WR-CALDESC:Events for Cámara Del Libro La Paz
REFRESH-INTERVAL;VALUE=DURATION:PT1H
X-Robots-Tag:noindex
X-PUBLISHED-TTL:PT1H
BEGIN:VTIMEZONE
TZID:America/Halifax
BEGIN:DAYLIGHT
TZOFFSETFROM:-0400
TZOFFSETTO:-0300
TZNAME:ADT
DTSTART:20250309T060000
END:DAYLIGHT
BEGIN:STANDARD
TZOFFSETFROM:-0300
TZOFFSETTO:-0400
TZNAME:AST
DTSTART:20251102T050000
END:STANDARD
END:VTIMEZONE
BEGIN:VEVENT
DTSTART;TZID=America/Halifax:20250801T150000
DTEND;TZID=America/Halifax:20250801T160000
DTSTAMP:20260421T190658
CREATED:20250729T180915Z
LAST-MODIFIED:20250729T180915Z
UID:5546-1754060400-1754064000@www.camaralibrolapaz.org.bo
SUMMARY:STAND DE FRANCIA | Actividad de mediacion para la exposición "Ecrire en français"
DESCRIPTION:Exposición sobre autores de diversas partes del mundo que escriben en francés\, explorando sus trayectorias y vínculos con este idioma.
URL:https://www.camaralibrolapaz.org.bo/event/stand-de-francia-actividad-de-mediacion-para-la-exposicion-ecrire-en-francais/
LOCATION:Otros espacios
CATEGORIES:Cuenta Cuentos,DÍA 7 | 05-08-2025,FILLP 2025
END:VEVENT
END:VCALENDAR