BEGIN:VCALENDAR
VERSION:2.0
PRODID:-//Cámara Del Libro La Paz - ECPv6.14.2//NONSGML v1.0//EN
CALSCALE:GREGORIAN
METHOD:PUBLISH
X-WR-CALNAME:Cámara Del Libro La Paz
X-ORIGINAL-URL:https://www.camaralibrolapaz.org.bo
X-WR-CALDESC:Events for Cámara Del Libro La Paz
REFRESH-INTERVAL;VALUE=DURATION:PT1H
X-Robots-Tag:noindex
X-PUBLISHED-TTL:PT1H
BEGIN:VTIMEZONE
TZID:America/Halifax
BEGIN:DAYLIGHT
TZOFFSETFROM:-0400
TZOFFSETTO:-0300
TZNAME:ADT
DTSTART:20250309T060000
END:DAYLIGHT
BEGIN:STANDARD
TZOFFSETFROM:-0300
TZOFFSETTO:-0400
TZNAME:AST
DTSTART:20251102T050000
END:STANDARD
END:VTIMEZONE
BEGIN:VEVENT
DTSTART;TZID=America/Halifax:20250801T150000
DTEND;TZID=America/Halifax:20250801T150000
DTSTAMP:20260421T174524
CREATED:20250729T180859Z
LAST-MODIFIED:20250729T180859Z
UID:5543-1754060400-1754060400@www.camaralibrolapaz.org.bo
SUMMARY:SALA 2 | CHARLA "Amor: Más allá del Romanticismo"
DESCRIPTION:Charla inspirada en el cuento «La cafetería de las mil estrellas»\, que reflexiona sobre el amor como experiencia profunda\, más allá del ideal romántico convencional.
URL:https://www.camaralibrolapaz.org.bo/event/sala-2-charla-amor-mas-alla-del-romanticismo/
LOCATION:Sala 2
CATEGORIES:Charla,DÍA 7 | 05-08-2025,FILLP 2025
END:VEVENT
BEGIN:VEVENT
DTSTART;TZID=America/Halifax:20250731T170000
DTEND;TZID=America/Halifax:20250731T170000
DTSTAMP:20260421T174524
CREATED:20250729T153644Z
LAST-MODIFIED:20250729T164947Z
UID:5406-1753981200-1753981200@www.camaralibrolapaz.org.bo
SUMMARY:SALA 2 | CHARLA: En búsqueda de una dramaturgia de la espontaneidad | Expone: Yungaro Santalla
DESCRIPTION:La charla aborda la dramaturgia de la espontaneidad como una tecnología creativa capaz de nutrir los ámbitos literarios y teatrales\, fomentando la escritura teatral desde la espontaneidad y la innovación.
URL:https://www.camaralibrolapaz.org.bo/event/sala-2-charla-en-busqueda-de-una-dramaturgia-de-la-espontaneidad-expone-yungaro-santalla/
LOCATION:Sala 2
CATEGORIES:Charla,DÍA 2 | 31-07-2025
END:VEVENT
END:VCALENDAR